Workbook
Name Titoli_stampa_MI: [1]STOR_PG!$A$2:$IV$12

Sheet Vittime di omicidio - Totale
A1: Vittime di omicidio secondo la relazione con l'omicida - Totale Anni 2002-2018 (a) (valori assoluti, quozienti per 100.000 abitanti e composizioni percentuali)
A3: RELAZIONE DELLA VITTIMA CON L'OMICIDA | B3: 2002 | C3: 2003 | D3: 2004 | E3: 2005 | F3: 2006 | G3: 2007 | H3: 2008 | I3: 2009 | J3: 2010 | K3: 2011 | L3: 2012 | M3: 2013 | N3: 2014 | O3: 2015 | P3: 2016 | Q3: 2017 | R3: 2018
B5: VALORI ASSOLUTI
A6: Partner (marito/moglie, convivente, fidanzato/a) | B6: 82 | C6: 96 | D6: 93 | E6: 71 | F6: 101 | G6: 77 | H6: 78 | I6: 85 | J6: 57 | K6: 78 | L6: 64 | M6: 67 | N6: 80 | O6: 70 | P6: 65 | Q6: 51 | R6: =+Tavola1!R6+Tavola2!R6 -> 68
A7: Ex partner (ex marito/moglie, ex convivente, ex fidanzato/a) | B7: 0 | C7: 0 | D7: 5 | E7: 4 | F7: 1 | G7: 4 | H7: 10 | I7: 14 | J7: 19 | K7: 14 | L7: 18 | M7: 17 | N7: 12 | O7: 10 | P7: 18 | Q7: 11 | R7: =+Tavola1!R7+Tavola2!R7 -> 10
A8: Altro parente | B8: 53 | C8: 54 | D8: 65 | E8: 59 | F8: 74 | G8: 80 | H8: 81 | I8: 72 | J8: 82 | K8: 79 | L8: 70 | M8: 76 | N8: 86 | O8: 74 | P8: 66 | Q8: 64 | R8: =+Tavola1!R8+Tavola2!R8 -> 67
A9: Altro conoscente | B9: 0 | C9: 0 | D9: 15 | E9: 24 | F9: 16 | G9: 23 | H9: 29 | I9: 55 | J9: 55 | K9: 68 | L9: 48 | M9: 52 | N9: 50 | O9: 54 | P9: 29 | Q9: 31 | R9: =+Tavola1!R9+Tavola2!R9 -> 25
A10: Autore sconosciuto alla vittima | B10: 289 | C10: 298 | D10: 252 | E10: 212 | F10: 208 | G10: 234 | H10: 212 | I10: 195 | J10: 167 | K10: 161 | L10: 147 | M10: 130 | N10: 123 | O10: 136 | P10: 118 | Q10: 83 | R10: =+Tavola1!R10+Tavola2!R10 -> 96
A11: Autore non identificato | B11: 218 | C11: 268 | D11: 281 | E11: 230 | F11: 220 | G11: 214 | H11: 203 | I11: 168 | J11: 148 | K11: 151 | L11: 181 | M11: 160 | N11: 125 | O11: 125 | P11: 104 | Q11: 117 | R11: =+Tavola1!R11+Tavola2!R11 -> 79
A12: Totale | B12: 642 | C12: 716 | D12: 711 | E12: 600 | F12: 620 | G12: 632 | H12: 613 | I12: 589 | J12: 528 | K12: 551 | L12: 528 | M12: 502 | N12: 476 | O12: 469 | P12: 400 | Q12: 357 | R12: =+Tavola1!R12+Tavola2!R12 -> 345
B14: QUOZIENTI PER 100.000 ABITANTI
A15: Partner (marito/moglie, convivente, fidanzato/a) | B15: 0.14371088 | C15: 0.16750067 | D15: 0.16121951 | E15: 0.12247823 | F15: 0.17370672 | G15: 0.13176288 | H15: 0.13259278 | I15: 0.14383531 | J15: 0.096158037 | K15: 0.13135858 | L15: 0.10749127 | M15: 0.11123296 | N15: 0.13160245 | O15: 0.11526318 | P15: 0.10721208 | Q15: 0.084246403 | R15: 0.11254224
A16: Ex partner (ex marito/moglie, ex convivente, ex fidanzato/a) | B16: - | C16: - | D16: 0.0086677155 | E16: 0.0069001822 | F16: 0.0017198685 | G16: 0.006844825 | H16: 0.016999075 | I16: 0.023690521 | J16: 0.032052679 | K16: 0.023577181 | L16: 0.030231921 | M16: 0.028223287 | N16: 0.019740368 | O16: 0.016466169 | P16: 0.029689498 | Q16: 0.018170793 | R16: 0.016550329
A17: Altro parente | B17: 0.0928863 | C17: 0.094219128 | D17: 0.1126803 | E17: 0.10177769 | F17: 0.12727027 | G17: 0.1368965 | H17: 0.13769251 | I17: 0.12183697 | J17: 0.13833261 | K17: 0.13304266 | L17: 0.11756858 | M17: 0.1261747 | N17: 0.14147264 | O17: 0.12184965 | P17: 0.10886149 | Q17: 0.10572098 | R17: 0.1108872
A18: Altro conoscente | B18: - | C18: - | D18: 0.026003147 | E18: 0.041401093 | F18: 0.027517897 | G18: 0.039357744 | H18: 0.049297317 | I18: 0.093069906 | J18: 0.092784071 | K18: 0.11451774 | L18: 0.080618455 | M18: 0.086330055 | N18: 0.082251534 | O18: 0.088917311 | P18: 0.047833081 | Q18: 0.051208598 | R18: 0.041375823
A19: Autore sconosciuto alla vittima | B19: 0.50649322 | C19: 0.51995 | D19: 0.43685286 | E19: 0.36570966 | F19: 0.35773266 | G19: 0.40042226 | H19: 0.36038039 | I19: 0.32997512 | J19: 0.28172618 | K19: 0.27113758 | L19: 0.24689402 | M19: 0.21582514 | N19: 0.20233877 | O19: 0.22393989 | P19: 0.19463116 | Q19: 0.13710689 | R19: 0.15888316
A20: Autore non identificato | B20: 0.38206063 | C20: 0.46760604 | D20: 0.48712561 | E20: 0.39676048 | F20: 0.37837108 | G20: 0.36619814 | H20: 0.34508122 | I20: 0.28428626 | J20: 0.2496735 | K20: 0.25429674 | L20: 0.30399876 | M20: 0.26563094 | N20: 0.20562883 | O20: 0.20582711 | P20: 0.17153932 | Q20: 0.19327116 | R20: 0.1307476
A21: Totale | B21: 1.125151 | C21: 1.2492758 | D21: 1.2325491 | E21: 1.0350273 | F21: 1.0663185 | G21: 1.0814823 | H21: 1.0420433 | I21: 0.99669408 | J21: 0.89072708 | K21: 0.92793048 | L21: 0.88680301 | M21: 0.83341707 | N21: 0.7830346 | O21: 0.77226331 | P21: 0.65976663 | Q21: 0.58972482 | R21: 0.57098635
B23: COMPOSIZIONI PERCENTUALI
A24: Partner (marito/moglie, convivente, fidanzato/a) | B24: 12.772586 | C24: 13.407821 | D24: 13.080169 | E24: 11.833333 | F24: 16.290323 | G24: 12.183544 | H24: 12.724307 | I24: 14.431239 | J24: 10.795455 | K24: 14.15608 | L24: 12.121212 | M24: 13.346614 | N24: 16.806723 | O24: 14.925373 | P24: 16.25 | Q24: 14.285714 | R24: =+R6/$R$12*100 -> 19.710145
A25: Ex partner (ex marito/moglie, ex convivente, ex fidanzato/a) | B25: - | C25: - | D25: 0.70323488 | E25: 0.66666667 | F25: 0.16129032 | G25: 0.63291139 | H25: 1.6313214 | I25: 2.37691 | J25: 3.5984848 | K25: 2.5408348 | L25: 3.4090909 | M25: 3.3864542 | N25: 2.5210084 | O25: 2.1321962 | P25: 4.5 | Q25: 3.0812325 | R25: =+R7/$R$12*100 -> 2.8985507
A26: Altro parente | B26: 8.2554517 | C26: 7.5418994 | D26: 9.1420534 | E26: 9.8333333 | F26: 11.935484 | G26: 12.658228 | H26: 13.213703 | I26: 12.224109 | J26: 15.530303 | K26: 14.337568 | L26: 13.257576 | M26: 15.139442 | N26: 18.067227 | O26: 15.778252 | P26: 16.5 | Q26: 17.927171 | R26: =+R8/$R$12*100 -> 19.42029
A27: Altro conoscente | B27: - | C27: - | D27: 2.1097046 | E27: 4 | F27: 2.5806452 | G27: 3.6392405 | H27: 4.730832 | I27: 9.3378608 | J27: 10.416667 | K27: 12.341198 | L27: 9.0909091 | M27: 10.358566 | N27: 10.504202 | O27: 11.513859 | P27: 7.25 | Q27: 8.6834734 | R27: =+R9/$R$12*100 -> 7.2463768
A28: Autore sconosciuto alla vittima | B28: 45.015576 | C28: 41.620112 | D28: 35.443038 | E28: 35.333333 | F28: 33.548387 | G28: 37.025316 | H28: 34.584013 | I28: 33.106961 | J28: 31.628788 | K28: 29.219601 | L28: 27.840909 | M28: 25.896414 | N28: 25.840336 | O28: 28.997868 | P28: 29.5 | Q28: 23.2493 | R28: =+R10/$R$12*100 -> 27.826087
A29: Autore non identificato | B29: 33.956386 | C29: 37.430168 | D29: 39.5218 | E29: 38.333333 | F29: 35.483871 | G29: 33.860759 | H29: 33.115824 | I29: 28.52292 | J29: 28.030303 | K29: 27.404719 | L29: 34.280303 | M29: 31.87251 | N29: 26.260504 | O29: 26.652452 | P29: 26 | Q29: 32.773109 | R29: =+R11/$R$12*100 -> 22.898551
A30: Totale | B30: 100 | C30: 100 | D30: 100 | E30: 100 | F30: 100 | G30: 100 | H30: 100 | I30: 100 | J30: 100 | K30: 100 | L30: 100 | M30: 100 | N30: 100 | O30: 100 | P30: 100 | Q30: 100 | R30: =+R12/$R$12*100 -> 100
A33: Fonte: Istat, Ministero dell'interno
A34: (a) I dati relativi alla relazione vittima di omicidio e autore sono estratti dal database degli omicidi del Ministero dell’Interno (DCPC). Trattandosi di un dato utilizzato a fini operativi, esso è suscettibile di modifiche che possono emergere in estrazioni successive.

Sheet Tavola1
A1: Tavola 1 - Vittime di omicidio secondo la relazione con l'omicida - Maschi Anni 2002-2018 (a) (valori assoluti, quozienti per 100.000 abitanti maschi e composizioni percentuali)
A3: RELAZIONE DELLA VITTIMA CON L'OMICIDA | B3: 2002 | C3: 2003 | D3: 2004 | E3: 2005 | F3: 2006 | G3: 2007 | H3: 2008 | I3: 2009 | J3: 2010 | K3: 2011 | L3: 2012 | M3: 2013 | N3: 2014 | O3: 2015 | P3: 2016 | Q3: 2017 | R3: 2018
B5: VALORI ASSOLUTI
A6: Partner (moglie, convivente, fidanzato/a) | B6: 10 | C6: 17 | D6: 25 | E6: 20 | F6: 11 | G6: 15 | H6: 20 | I6: 13 | J6: 12 | K6: 9 | L6: 7 | M6: 7 | N6: 11 | O6: 9 | P6: 6 | Q6: 7 | R6: 5
A7: Ex partner (ex moglie, ex convivente, ex fidanzato/a) | B7: 0 | C7: 0 | D7: 1 | E7: 1 | F7: 0 | G7: 2 | H7: 2 | I7: 3 | J7: 2 | K7: 1 | L7: 1 | M7: 1 | N7: 0 | O7: 1 | P7: 1 | Q7: 1 | R7: 0
A8: Altro parente | B8: 27 | C8: 30 | D8: 25 | E8: 35 | F8: 44 | G8: 47 | H8: 41 | I8: 35 | J8: 45 | K8: 49 | L8: 38 | M8: 35 | N8: 53 | O8: 38 | P8: 33 | Q8: 29 | R8: 34
A9: Altro conoscente | B9: 0 | C9: 0 | D9: 8 | E9: 15 | F9: 7 | G9: 18 | H9: 24 | I9: 38 | J9: 28 | K9: 45 | L9: 32 | M9: 31 | N9: 37 | O9: 43 | P9: 20 | Q9: 21 | R9: 23
A10: Autore sconosciuto alla vittima | B10: 217 | C10: 230 | D10: 209 | E10: 182 | F10: 174 | G10: 202 | H10: 189 | I10: 177 | J10: 146 | K10: 141 | L10: 123 | M10: 109 | N10: 112 | O10: 118 | P10: 97 | Q10: 75 | R10: 80
A11: Autore non identificato | B11: 201 | C11: 247 | D11: 257 | E11: 215 | F11: 203 | G11: 198 | H11: 188 | I11: 151 | J11: 137 | K11: 136 | L11: 167 | M11: 140 | N11: 115 | O11: 119 | P11: 94 | Q11: 101 | R11: 70
A12: Totale | B12: 455 | C12: 524 | D12: 525 | E12: 468 | F12: 439 | G12: 482 | H12: 464 | I12: 417 | J12: 370 | K12: 381 | L12: 368 | M12: 323 | N12: 328 | O12: 328 | P12: 251 | Q12: 234 | R12: 212
B14: QUOZIENTI PER 100.000 ABITANTI MASCHI
A15: Partner (moglie, convivente, fidanzato/a) | B15: 0.036203224 | C15: 0.06125657 | D15: 0.089461745 | E15: 0.071196183 | F15: 0.039041142 | G15: 0.052981558 | H15: 0.070198531 | I15: 0.045439141 | J15: 0.041837619 | K15: 0.031336035 | L15: 0.024298723 | M15: 0.023983214 | N15: 0.037296888 | O15: 0.030530254 | P15: 0.020372801 | Q15: 0.02377986 | R15: 0.017003225
A16: Ex partner (ex moglie, ex convivente, ex fidanzato/a) | B16: 0 | C16: 0 | D16: 0.0035784698 | E16: 0.0035598092 | F16: 0 | G16: 0.0070642078 | H16: 0.0070198531 | I16: 0.010485956 | J16: 0.0069729365 | K16: 0.0034817817 | L16: 0.0034712462 | M16: 0.0034261734 | N16: - | O16: 0.0033922504 | P16: 0.0033954669 | Q16: 0.0033971229 | R16: 0
A17: Altro parente | B17: 0.097748704 | C17: 0.10809983 | D17: 0.089461745 | E17: 0.12459332 | F17: 0.15616457 | G17: 0.16600888 | H17: 0.14390699 | I17: 0.12233615 | J17: 0.15689107 | K17: 0.1706073 | L17: 0.13190735 | M17: 0.11991607 | N17: 0.17970319 | O17: 0.12890552 | P17: 0.11205041 | Q17: 0.098516565 | R17: 0.11562193
A18: Altro conoscente | B18: 0 | C18: 0 | D18: 0.028627758 | E18: 0.053397137 | F18: 0.024844363 | G18: 0.06357787 | H18: 0.084238238 | I18: 0.1328221 | J18: 0.097621111 | K18: 0.15668018 | L18: 0.11107988 | M18: 0.10621138 | N18: 0.12545317 | O18: 0.14586677 | P18: 0.067909337 | Q18: 0.071339581 | R18: 0.078214834
A19: Autore sconosciuto alla vittima | B19: 0.78560996 | C19: 0.82876536 | D19: 0.74790019 | E19: 0.64788527 | F19: 0.61755988 | G19: 0.71348499 | H19: 0.66337612 | I19: 0.61867138 | J19: 0.50902437 | K19: 0.49093122 | L19: 0.42696328 | M19: 0.3734529 | N19: 0.37975014 | O19: 0.40028555 | P19: 0.32936029 | Q19: 0.25478422 | R19: 0.2720516
A20: Autore non identificato | B20: 0.7276848 | C20: 0.89002194 | D20: 0.91966673 | E20: 0.76535897 | F20: 0.72048653 | G20: 0.69935657 | H20: 0.6598662 | I20: 0.5277931 | J20: 0.47764615 | K20: 0.47352231 | L20: 0.57969811 | M20: 0.47966428 | N20: 0.38992201 | O20: 0.4036778 | P20: 0.31917389 | Q20: 0.34310942 | R20: 0.23804515
A21: Totale | B21: 1.6472467 | C21: 1.8881437 | D21: 1.8786966 | E21: 1.6659907 | F21: 1.5580965 | G21: 1.7024741 | H21: 1.6286059 | I21: 1.4575478 | J21: 1.2899933 | K21: 1.3265588 | L21: 1.2774186 | M21: 1.106654 | N21: 1.1121254 | O21: 1.1126581 | P21: 0.85226218 | Q21: 0.79492676 | R21: 0.72093673
B23: COMPOSIZIONI PERCENTUALI
A24: Partner (moglie, convivente, fidanzato/a) | B24: 2.1978022 | C24: 3.2442748 | D24: 4.7619048 | E24: 4.2735043 | F24: 2.5056948 | G24: 3.1120332 | H24: 4.3103448 | I24: 3.117506 | J24: 3.2432432 | K24: 2.3622047 | L24: 1.9021739 | M24: 2.1671827 | N24: 3.3536585 | O24: 2.7439024 | P24: 2.3904382 | Q24: 2.991453 | R24: =+R6/$R$12*100 -> 2.3584906
A25: Ex-partner (ex moglie, ex convivente, ex fidanzato/a) | B25: 0 | C25: 0 | D25: 0.19047619 | E25: 0.21367521 | F25: 0 | G25: 0.41493776 | H25: 0.43103448 | I25: 0.71942446 | J25: 0.54054054 | K25: 0.26246719 | L25: 0.27173913 | M25: 0.30959752 | N25: - | O25: 0.30487805 | P25: 0.39840637 | Q25: 0.42735043 | R25: =+R7/$R$12*100 -> 0
A26: Altro parente | B26: 5.9340659 | C26: 5.7251908 | D26: 4.7619048 | E26: 7.4786325 | F26: 10.022779 | G26: 9.7510373 | H26: 8.8362069 | I26: 8.3932854 | J26: 12.162162 | K26: 12.860892 | L26: 10.326087 | M26: 10.835913 | N26: 16.158537 | O26: 11.585366 | P26: 13.14741 | Q26: 12.393162 | R26: =+R8/$R$12*100 -> 16.037736
A27: Altro conoscente | B27: 0 | C27: 0 | D27: 1.5238095 | E27: 3.2051282 | F27: 1.594533 | G27: 3.7344398 | H27: 5.1724138 | I27: 9.1127098 | J27: 7.5675676 | K27: 11.811024 | L27: 8.6956522 | M27: 9.5975232 | N27: 11.280488 | O27: 13.109756 | P27: 7.9681275 | Q27: 8.974359 | R27: =+R9/$R$12*100 -> 10.849057
A28: Autore sconosciuto alla vittima | B28: 47.692308 | C28: 43.89313 | D28: 39.809524 | E28: 38.888889 | F28: 39.635535 | G28: 41.908714 | H28: 40.732759 | I28: 42.446043 | J28: 39.459459 | K28: 37.007874 | L28: 33.423913 | M28: 33.74613 | N28: 34.146341 | O28: 35.97561 | P28: 38.645418 | Q28: 32.051282 | R28: =+R10/$R$12*100 -> 37.735849
A29: Autore non identificato | B29: 44.175824 | C29: 47.137405 | D29: 48.952381 | E29: 45.940171 | F29: 46.241458 | G29: 41.078838 | H29: 40.517241 | I29: 36.211031 | J29: 37.027027 | K29: 35.695538 | L29: 45.380435 | M29: 43.343653 | N29: 35.060976 | O29: 36.280488 | P29: 37.450199 | Q29: 43.162393 | R29: =+R11/$R$12*100 -> 33.018868
A30: Totale | B30: 100 | C30: 100 | D30: 100 | E30: 100 | F30: 100 | G30: 100 | H30: 100 | I30: 100 | J30: 100 | K30: 100 | L30: 100 | M30: 100 | N30: 100 | O30: 100 | P30: 100 | Q30: 100 | R30: =+R12/$R$12*100 -> 100
A33: Fonte: Istat, Ministero dell'Interno
A34: (a) I dati sono estratti dal database degli omicidi del Ministero dell’Interno – Direzione centrale della polizia criminale (DCPC). Trattandosi di un dato utilizzato a fini operativi, esso è suscettibile di modifiche che possono emergere in estrazioni successive.

Sheet Tavola2
A1: Tavola 2 - Vittime di omicidio secondo la relazione con l'omicida - Femmine Anni 2002-2018 (a) (valori assoluti, quozienti per 100.000 abitanti femmine e composizioni percentuali)
A3: RELAZIONE DELLA VITTIMA CON L'OMICIDA | B3: 2002 | C3: 2003 | D3: 2004 | E3: 2005 | F3: 2006 | G3: 2007 | H3: 2008 | I3: 2009 | J3: 2010 | K3: 2011 | L3: 2012 | M3: 2013 | N3: 2014 | O3: 2015 | P3: 2016 | Q3: 2017 | R3: 2018
B5: VALORI ASSOLUTI
A6: Partner (marito, convivente, fidanzato/a) | B6: 72 | C6: 79 | D6: 68 | E6: 51 | F6: 90 | G6: 62 | H6: 58 | I6: 72 | J6: 45 | K6: 69 | L6: 57 | M6: 60 | N6: 69 | O6: 61 | P6: 59 | Q6: 44 | R6: 63
A7: Ex partner (ex marito, ex convivente, ex-fidanzato/a) | B7: 0 | C7: 0 | D7: 4 | E7: 3 | F7: 1 | G7: 2 | H7: 8 | I7: 11 | J7: 17 | K7: 13 | L7: 17 | M7: 16 | N7: 12 | O7: 9 | P7: 17 | Q7: 10 | R7: 10
A8: Altro parente | B8: 26 | C8: 24 | D8: 40 | E8: 24 | F8: 30 | G8: 33 | H8: 40 | I8: 37 | J8: 37 | K8: 30 | L8: 32 | M8: 41 | N8: 33 | O8: 36 | P8: 33 | Q8: 35 | R8: 33
A9: Altro conoscente | B9: 0 | C9: 0 | D9: 7 | E9: 9 | F9: 9 | G9: 5 | H9: 5 | I9: 17 | J9: 27 | K9: 23 | L9: 16 | M9: 21 | N9: 13 | O9: 11 | P9: 9 | Q9: 10 | R9: 2
A10: Autore sconosciuto alla vittima | B10: 72 | C10: 68 | D10: 43 | E10: 30 | F10: 34 | G10: 32 | H10: 23 | I10: 18 | J10: 21 | K10: 20 | L10: 24 | M10: 21 | N10: 11 | O10: 18 | P10: 21 | Q10: 8 | R10: 16
A11: Autore non identificato | B11: 17 | C11: 21 | D11: 24 | E11: 15 | F11: 17 | G11: 16 | H11: 15 | I11: 17 | J11: 11 | K11: 15 | L11: 14 | M11: 20 | N11: 10 | O11: 6 | P11: 10 | Q11: 16 | R11: 9
A12: Totale | B12: 187 | C12: 192 | D12: 186 | E12: 132 | F12: 181 | G12: 150 | H12: 149 | I12: 172 | J12: 158 | K12: 170 | L12: 160 | M12: 179 | N12: 148 | O12: 141 | P12: 149 | Q12: 123 | R12: 133
B14: QUOZIENTI PER 100.000 ABITANTI FEMMINE
A15: Partner (moglie, convivente, fidanzato/a) | B15: 0.24458884 | C15: 0.2672433 | D15: 0.22864505 | E15: 0.17069364 | F15: 0.30031459 | G15: 0.20579839 | H15: 0.19119132 | I15: 0.23617655 | J15: 0.1470824 | K15: 0.22505978 | L15: 0.18547672 | M15: 0.19325621 | N15: 0.22047502 | O15: 0.19518984 | P15: 0.1892453 | Q15: 0.14147894 | R15: 0.20312377
A16: Ex partner (ex moglie, ex convivente, ex fidanzato/a) | B16: 0 | C16: 0 | D16: 0.013449709 | E16: 0.010040802 | F16: 0.0033368288 | G16: 0.0066386578 | H16: 0.026371216 | I16: 0.036082528 | J16: 0.05556446 | K16: 0.042402567 | L16: 0.055317619 | M16: 0.051534991 | N16: 0.038343481 | O16: 0.028798502 | P16: 0.054528308 | Q16: 0.032154305 | R16: 0.032241868
A17: Altro parente | B17: 0.088323747 | C17: 0.081187838 | D17: 0.13449709 | E17: 0.08032642 | F17: 0.10010486 | G17: 0.10953785 | H17: 0.13185608 | I17: 0.1213685 | J17: 0.12093441 | K17: 0.097852078 | L17: 0.10412728 | M17: 0.13205841 | N17: 0.10544457 | O17: 0.11519401 | P17: 0.10584907 | Q17: 0.11254007 | R17: 0.10639816
A18: Altro conoscente | B18: 0 | C18: 0 | D18: 0.02353699 | E18: 0.030122407 | F18: 0.030031459 | G18: 0.016596645 | H18: 0.01648201 | I18: 0.055763908 | J18: 0.088249437 | K18: 0.075019927 | L18: 0.052063642 | M18: 0.067639675 | N18: 0.041538771 | O18: 0.035198169 | P18: 0.028867928 | Q18: 0.032154305 | R18: 0.0064483735
A19: Autore sconosciuto alla vittima | B19: 0.24458884 | C19: 0.23003221 | D19: 0.14458437 | E19: 0.10040802 | F19: 0.11345218 | G19: 0.10621853 | H19: 0.075817246 | I19: 0.059044137 | J19: 0.068638451 | K19: 0.065234719 | L19: 0.078095463 | M19: 0.067639675 | N19: 0.035148191 | O19: 0.057597003 | P19: 0.067358498 | Q19: 0.025723444 | R19: 0.051586988
A20: Autore non identificato | B20: 0.057750142 | C20: 0.071039358 | D20: 0.080698252 | E20: 0.050204012 | F20: 0.05672609 | G20: 0.053109263 | H20: 0.04944603 | I20: 0.055763908 | J20: 0.035953474 | K20: 0.048926039 | L20: 0.045555686 | M20: 0.064418738 | N20: 0.031952901 | O20: 0.019199001 | P20: 0.032075475 | Q20: 0.051446887 | R20: 0.029017681
A21: Totale | B21: 0.63525156 | C21: 0.6495027 | D21: 0.62541146 | E21: 0.44179531 | F21: 0.60396602 | G21: 0.49789934 | H21: 0.4911639 | I21: 0.56419954 | J21: 0.51642263 | K21: 0.55449511 | L21: 0.52063642 | M21: 0.57654771 | N21: 0.47290293 | O21: 0.45117652 | P21: 0.47792458 | Q21: 0.39549795 | R21: 0.42881684
B23: COMPOSIZIONI PERCENTUALI
A24: Partner (marito, convivente, fidanzato/a) | B24: 38.502674 | C24: 41.145833 | D24: 36.55914 | E24: 38.636364 | F24: 49.723757 | G24: 41.333333 | H24: 38.926174 | I24: 41.860465 | J24: 28.481013 | K24: 40.588235 | L24: 35.625 | M24: 33.519553 | N24: 46.621622 | O24: 43.262411 | P24: 39.597315 | Q24: 35.772358 | R24: =+R6/$R$12*100 -> 47.368421
A25: Ex partner (ex marito, ex convivente, ex-fidanzato/a) | B25: 0 | C25: 0 | D25: 2.1505376 | E25: 2.2727273 | F25: 0.55248619 | G25: 1.3333333 | H25: 5.3691275 | I25: 6.3953488 | J25: 10.759494 | K25: 7.6470588 | L25: 10.625 | M25: 8.9385475 | N25: 8.1081081 | O25: 6.3829787 | P25: 11.409396 | Q25: 8.1300813 | R25: =+R7/$R$12*100 -> 7.518797
A26: Altro parente | B26: 13.903743 | C26: 12.5 | D26: 21.505376 | E26: 18.181818 | F26: 16.574586 | G26: 22 | H26: 26.845638 | I26: 21.511628 | J26: 23.417722 | K26: 17.647059 | L26: 20 | M26: 22.905028 | N26: 22.297297 | O26: 25.531915 | P26: 22.147651 | Q26: 28.455285 | R26: =+R8/$R$12*100 -> 24.81203
A27: Altro conoscente | B27: 0 | C27: 0 | D27: 3.7634409 | E27: 6.8181818 | F27: 4.9723757 | G27: 3.3333333 | H27: 3.3557047 | I27: 9.8837209 | J27: 17.088608 | K27: 13.529412 | L27: 10 | M27: 11.731844 | N27: 8.7837838 | O27: 7.8014184 | P27: 6.0402685 | Q27: 8.1300813 | R27: =+R9/$R$12*100 -> 1.5037594
A28: Autore sconosciuto alla vittima | B28: 38.502674 | C28: 35.416667 | D28: 23.11828 | E28: 22.727273 | F28: 18.78453 | G28: 21.333333 | H28: 15.436242 | I28: 10.465116 | J28: 13.291139 | K28: 11.764706 | L28: 15 | M28: 11.731844 | N28: 7.4324324 | O28: 12.765957 | P28: 14.09396 | Q28: 6.504065 | R28: =+R10/$R$12*100 -> 12.030075
A29: Autore non identificato | B29: 9.0909091 | C29: 10.9375 | D29: 12.903226 | E29: 11.363636 | F29: 9.3922652 | G29: 10.666667 | H29: 10.067114 | I29: 9.8837209 | J29: 6.9620253 | K29: 8.8235294 | L29: 8.75 | M29: 11.173184 | N29: 6.7567568 | O29: 4.2553191 | P29: 6.7114094 | Q29: 13.00813 | R29: =+R11/$R$12*100 -> 6.7669173
A30: Totale | B30: 100 | C30: 100 | D30: 100 | E30: 100 | F30: 100 | G30: 100 | H30: 100 | I30: 100 | J30: 100 | K30: 100 | L30: 100 | M30: 100 | N30: 100 | O30: 100 | P30: 100 | Q30: 100 | R30: =+R12/$R$12*100 -> 100
A33: Fonte: Istat, Ministero dell'Interno
A34: (a) I dati sono estratti dal database degli omicidi del Ministero dell’Interno – Direzione centrale della polizia criminale (DCPC). Trattandosi di un dato utilizzato a fini operativi, esso è suscettibile di modifiche che possono emergere in estrazioni successive.
